BEGIN:VCALENDAR
VERSION:2.0
PRODID:-//East Lothian Antiquarian &amp; Field Naturalists&#039; Society - ECPv6.15.20//NONSGML v1.0//EN
CALSCALE:GREGORIAN
METHOD:PUBLISH
X-WR-CALNAME:East Lothian Antiquarian &amp; Field Naturalists&#039; Society
X-ORIGINAL-URL:https://eastlothianantiquarians.org.uk
X-WR-CALDESC:Events for East Lothian Antiquarian &amp; Field Naturalists&#039; Society
REFRESH-INTERVAL;VALUE=DURATION:PT1H
X-Robots-Tag:noindex
X-PUBLISHED-TTL:PT1H
BEGIN:VTIMEZONE
TZID:Europe/London
BEGIN:DAYLIGHT
TZOFFSETFROM:+0000
TZOFFSETTO:+0100
TZNAME:BST
DTSTART:20240331T010000
END:DAYLIGHT
BEGIN:STANDARD
TZOFFSETFROM:+0100
TZOFFSETTO:+0000
TZNAME:GMT
DTSTART:20241027T010000
END:STANDARD
BEGIN:DAYLIGHT
TZOFFSETFROM:+0000
TZOFFSETTO:+0100
TZNAME:BST
DTSTART:20250330T010000
END:DAYLIGHT
BEGIN:STANDARD
TZOFFSETFROM:+0100
TZOFFSETTO:+0000
TZNAME:GMT
DTSTART:20251026T010000
END:STANDARD
BEGIN:DAYLIGHT
TZOFFSETFROM:+0000
TZOFFSETTO:+0100
TZNAME:BST
DTSTART:20260329T010000
END:DAYLIGHT
BEGIN:STANDARD
TZOFFSETFROM:+0100
TZOFFSETTO:+0000
TZNAME:GMT
DTSTART:20261025T010000
END:STANDARD
END:VTIMEZONE
BEGIN:VEVENT
DTSTART;TZID=Europe/London:20251213T143000
DTEND;TZID=Europe/London:20251213T170000
DTSTAMP:20260423T093606
CREATED:20250914T085329Z
LAST-MODIFIED:20251123T142900Z
UID:2955-1765636200-1765645200@eastlothianantiquarians.org.uk
SUMMARY:“An Eighteenth Century North Berwick Love Story” 
DESCRIPTION:a personal family account  \n\n\n\n    by Sir Hew Dalrymple  \n\n\n\nSir Hew and Margaret Sainthill article- lectureDownload\n\n\n\n\n\nThe Society is delighted to present this talk by Sir Hew Dalrymple at 2.30 PM\, Saturday\, December 13th\, 2025. Sir Hew and his family have been involved in the Society since its inception and in North Berwick and East Lothian life for more than 300 years. Sir Hew was a founding trustee of the Scottish Seabird Centre and is a Deputy Lieutenant of the county. He is also president of North Berwick RNLI and North Berwick Yacht Club.  His family home\, Leuchie House\, is well known as the National Respite Centre.  Sir Hew’s family archives are deposited in the National Record Office and are the source for this talk.   \n\n\n\nSir Hew will take us back to the year 1744 and will paint a picture of life in North Berwick and London at that time.  The talk is based on an intimate & delightful correspondence between Hew and Margaret Dalrymple\, who were newly married but separated for four months when he left her in London to attend to his business affairs in Scotland. What emerges is a fascinating picture of a life very different to our own and yet the emotions\, ambitions and anxieties that they exhibit are completely relatable to us today.  \n\n\n\nThe venue will be at Holy Trinity Church\, Church Street\, Haddington \n\n\n\nJoin us for refreshments afterwards. \n\n\n\nFor any enquiries contact Elaine Whewell:  info@eastlothianantiquarians.org.uk   \n\n\n\nNon members welcome with a modest cash donation appreciated \n\n\n\nChurch parking is limited to Blue Badge holders plus otherwise mobility compromised  \n\n\n\n                                  Scottish Charitable Incorporated Organisation No: SC052295
URL:https://eastlothianantiquarians.org.uk/event/the-travels-of-the-2nd-sir-hew-dalrymple-and-his-wife/
CATEGORIES:Lectures & Talks
ATTACH;FMTTYPE=image/png:https://eastlothianantiquarians.org.uk/files/2024/02/elaafns-logo-trans.png
END:VEVENT
END:VCALENDAR