BEGIN:VCALENDAR
VERSION:2.0
PRODID:-//East Lothian Antiquarian &amp; Field Naturalists&#039; Society - ECPv6.15.20//NONSGML v1.0//EN
CALSCALE:GREGORIAN
METHOD:PUBLISH
X-ORIGINAL-URL:https://eastlothianantiquarians.org.uk
X-WR-CALDESC:Events for East Lothian Antiquarian &amp; Field Naturalists&#039; Society
REFRESH-INTERVAL;VALUE=DURATION:PT1H
X-Robots-Tag:noindex
X-PUBLISHED-TTL:PT1H
BEGIN:VTIMEZONE
TZID:Europe/London
BEGIN:DAYLIGHT
TZOFFSETFROM:+0000
TZOFFSETTO:+0100
TZNAME:BST
DTSTART:20250330T010000
END:DAYLIGHT
BEGIN:STANDARD
TZOFFSETFROM:+0100
TZOFFSETTO:+0000
TZNAME:GMT
DTSTART:20251026T010000
END:STANDARD
BEGIN:DAYLIGHT
TZOFFSETFROM:+0000
TZOFFSETTO:+0100
TZNAME:BST
DTSTART:20260329T010000
END:DAYLIGHT
BEGIN:STANDARD
TZOFFSETFROM:+0100
TZOFFSETTO:+0000
TZNAME:GMT
DTSTART:20261025T010000
END:STANDARD
BEGIN:DAYLIGHT
TZOFFSETFROM:+0000
TZOFFSETTO:+0100
TZNAME:BST
DTSTART:20270328T010000
END:DAYLIGHT
BEGIN:STANDARD
TZOFFSETFROM:+0100
TZOFFSETTO:+0000
TZNAME:GMT
DTSTART:20271031T010000
END:STANDARD
END:VTIMEZONE
BEGIN:VEVENT
DTSTART;TZID=Europe/London:20260221T143000
DTEND;TZID=Europe/London:20260221T170000
DTSTAMP:20260423T044422
CREATED:20250914T090001Z
LAST-MODIFIED:20260201T143928Z
UID:2959-1771684200-1771693200@eastlothianantiquarians.org.uk
SUMMARY:“Farm servants of South East Scotland between 1750 and 1914”
DESCRIPTION:David McLean will give a talk on the farm servants of South East Scotland between 1750 and 1914. This will describe the lives of thousands of farm servants and bondagers who worked on the improved farms of Berwickshire\, Roxburghshire and East Lothian through the years of the great agricultural revolution. \n\n\n\nThe Society is delighted to present this talk by David McLean at 2.30 PM\, Saturday\, 21st February\, 2026.  \n\n\n\nPlease note that the venue will be at Holy Trinity Church\, Church Street\, Haddington\, EH41 3EX \n\n\n\nDavid McLean \n\n\n\nAfter graduating in history at Edinburgh University\, our speaker began a professional career in education which eventually spanned 38 years\, teaching history and modern studies. Posts included principal teacher of History at Berwickshire High School and depute headteacher at Earlston High School. After retirement in 2010\, he found more time for deeper historical research into both Scottish and American history which has led on to giving a variety of talks to various clubs and societies across the Borders. In more recent years\, he has added a new project: researching the stories of the old Duns houses and the families who lived in them\, work which has not been done before. \n\n\n\nTalk summary \n\n\n\nThe talk will look at the lives of those thousands of farm-servants and bondagers who worked on the improved farms of Berwickshire\, Roxburghshire and East Lothian through the years of the great agricultural revolution. It will explain the rural hierarchy from ploughmen downwards\, the main tasks of the farming year\, how farm-servants were paid\, their living conditions and relationships with employers. Attempts to promote trade unionism in the countryside will be explored before reaching the watershed of the Great War. \n\n\n\nMembers can expect a moving historical journey into past agricultural times. \n\n\n\nFor any enquiries contact:  info@eastlothianantiquarians.org.uk   \n\n\n\nNon members welcome with a modest cash donation appreciated \n\n\n\nChurch parking is limited to Blue Badge holders plus otherwise mobility compromised  \n\n\n\n                                  Scottish Charitable Incorporated Organisation No: SC052295
URL:https://eastlothianantiquarians.org.uk/event/farm-servants-of-south-east-scotland-between-1750-and-1914/
CATEGORIES:Lectures & Talks
ATTACH;FMTTYPE=image/png:https://eastlothianantiquarians.org.uk/files/2024/02/elaafns-logo-trans.png
END:VEVENT
END:VCALENDAR