BEGIN:VCALENDAR
VERSION:2.0
PRODID:-//East Lothian Antiquarian &amp; Field Naturalists&#039; Society - ECPv6.15.20//NONSGML v1.0//EN
CALSCALE:GREGORIAN
METHOD:PUBLISH
X-WR-CALNAME:East Lothian Antiquarian &amp; Field Naturalists&#039; Society
X-ORIGINAL-URL:https://eastlothianantiquarians.org.uk
X-WR-CALDESC:Events for East Lothian Antiquarian &amp; Field Naturalists&#039; Society
REFRESH-INTERVAL;VALUE=DURATION:PT1H
X-Robots-Tag:noindex
X-PUBLISHED-TTL:PT1H
BEGIN:VTIMEZONE
TZID:Europe/London
BEGIN:DAYLIGHT
TZOFFSETFROM:+0000
TZOFFSETTO:+0100
TZNAME:BST
DTSTART:20230326T010000
END:DAYLIGHT
BEGIN:STANDARD
TZOFFSETFROM:+0100
TZOFFSETTO:+0000
TZNAME:GMT
DTSTART:20231029T010000
END:STANDARD
BEGIN:DAYLIGHT
TZOFFSETFROM:+0000
TZOFFSETTO:+0100
TZNAME:BST
DTSTART:20240331T010000
END:DAYLIGHT
BEGIN:STANDARD
TZOFFSETFROM:+0100
TZOFFSETTO:+0000
TZNAME:GMT
DTSTART:20241027T010000
END:STANDARD
BEGIN:DAYLIGHT
TZOFFSETFROM:+0000
TZOFFSETTO:+0100
TZNAME:BST
DTSTART:20250330T010000
END:DAYLIGHT
BEGIN:STANDARD
TZOFFSETFROM:+0100
TZOFFSETTO:+0000
TZNAME:GMT
DTSTART:20251026T010000
END:STANDARD
END:VTIMEZONE
BEGIN:VEVENT
DTSTART;TZID=Europe/London:20241019T143000
DTEND;TZID=Europe/London:20241019T170000
DTSTAMP:20260425T002352
CREATED:20240923T102057Z
LAST-MODIFIED:20241016T111744Z
UID:2573-1729348200-1729357200@eastlothianantiquarians.org.uk
SUMMARY:Meetings with Moths
DESCRIPTION:A Hundred Years of Moth Recording in East Lothian\n\n\n\nThe Society is delighted to present this talk by ecologist Katty Baird at 2.30 PM\, Saturday 19th October\, 2024. \n\n\n\nPlease note that the venue will be at Holy Trinity Church\, Church Street\, HaddingtonNearly a hundred years ago\, Alice Blanche Balfour\, the Society’s first vice President\, published a detailed account of the butterflies and moths of East Lothian in the Transactions. Today\, Katty Baird\, an ecologist and local expert on moths continues to record and document these important insects. \n\n\n\nIn this talk Katty will introduce us to the fascinating world of moths and some of the notable species that live locally. She will also look back across the last hundred years to consider how our moths\, and the way people record them\, have changed since Alice Balfour’s pioneering work. \n\n\n\nSigned copies of Katty’s book “Meetings with Moths” will be available to purchase afterwards for £10. \n\n\n\nFor any enquiries contact Elaine Whewell at info@eastlothianantiquarians.org.uk \n\n\n\nNon members welcome with a modest cash donation appreciated \n\n\n\nChurch parking is very limited and is restricted to the event lead\, speaker\, Blue Badge holders (priority) plus otherwise mobility compromised \n\n\n\nScottish Charitable Incorporated Organisation No: SC0052295
URL:https://eastlothianantiquarians.org.uk/event/meetings-with-moths/
LOCATION:Holy Trinity Episcopal Church\, Church Street\, Haddington\, East Lothian\, EH41 3EX\, United Kingdom
CATEGORIES:Lectures & Talks
ATTACH;FMTTYPE=image/jpeg:https://eastlothianantiquarians.org.uk/files/2024/09/Moth.jpg
ORGANIZER;CN="ELAFNS":MAILTO:events@eastlothianantiquarians.org.uk
END:VEVENT
END:VCALENDAR